BEGIN:VCALENDAR
VERSION:2.0
PRODID:-//Tukios.com/
BEGIN:VEVENT
UID:18f27372-b17f-48e7-b6e8-77def9dc98af@www.woodfinchapel.com
DTSTAMP:20260423T033101Z
DTSTART:20260424T160000Z
DTEND:20260424T170000Z
SUMMARY:Graveside Service
DESCRIPTION:
URL:https://www.woodfinchapel.com/obituaries/virginia-jackson
LOCATION:Williamson Love Jackson Cemetery 2828 Little Rock Road  
	Eagleville TN 37060
GEO:35.7563444;-86.6005052
END:VEVENT
END:VCALENDAR