BEGIN:VCALENDAR
VERSION:2.0
PRODID:-//Tukios.com/
BEGIN:VEVENT
UID:37b1674f-75cd-4b39-8d55-c3994ec1c779@www.woodfinchapel.com
DTSTAMP:20260423T032917Z
DTSTART:20260423T210000Z
DTEND:20260424T010000Z
SUMMARY:Visitation
DESCRIPTION:
URL:https://www.woodfinchapel.com/obituaries/virginia-jackson
LOCATION:Woodfin Memorial Chapel 1488 Lascassas Pike  Murfreesboro TN 
	37130
GEO:35.860192;-86.3662659
END:VEVENT
END:VCALENDAR