BEGIN:VCALENDAR
VERSION:2.0
PRODID:-//Tukios.com/
BEGIN:VEVENT
UID:e3a69fe3-0a01-4478-b55f-e1baf7bcc7c9@www.woodfinchapel.com
DTSTAMP:20260422T184158Z
DTSTART:20260425T200000Z
DTEND:20260425T210000Z
SUMMARY:Burial
DESCRIPTION:
URL:https://www.woodfinchapel.com/obituaries/savanna-morrow
LOCATION: 519 Greenland Dr  Murfreesboro TN 37130
GEO:35.852866;-86.3804262
END:VEVENT
END:VCALENDAR