BEGIN:VCALENDAR
VERSION:2.0
PRODID:-//Tukios.com/
BEGIN:VEVENT
UID:43473a6d-001f-4cee-a849-49fa80ade1eb@www.woodfinchapel.com
DTSTAMP:20260421T030121Z
DTSTART:20260509T150000Z
DTEND:20260509T160000Z
SUMMARY:Visitation
DESCRIPTION:
URL:https://www.woodfinchapel.com/obituaries/kenneth-yingst-jr
LOCATION:New Vision Baptist 1750 North Thompson Lane  Murfreesboro TN 
	37129
GEO:35.869133;-86.426724
END:VEVENT
END:VCALENDAR