BEGIN:VCALENDAR
VERSION:2.0
PRODID:-//Tukios.com/
BEGIN:VEVENT
UID:5fb97a50-cbb5-459f-b3ac-65808332d22f@www.woodfinchapel.com
DTSTAMP:20260421T030720Z
DTSTART:20260509T160000Z
DTEND:20260509T170000Z
SUMMARY:Celebration of Life
DESCRIPTION:
URL:https://www.woodfinchapel.com/obituaries/kenneth-yingst-jr
LOCATION:New Vision Baptist Church 1750 N Thompson Ln  Murfreesboro TN 
	37129
GEO:35.8691036;-86.4267579
END:VEVENT
END:VCALENDAR