BEGIN:VCALENDAR
VERSION:2.0
PRODID:-//Tukios.com/
BEGIN:VEVENT
UID:7d9475d0-279c-4e39-bbde-5bdddead9768@www.woodfinchapel.com
DTSTAMP:20260421T013021Z
DTSTART:20260423T171500Z
DTEND:20260423T181500Z
SUMMARY:Burial
DESCRIPTION:
URL:https://www.woodfinchapel.com/obituaries/ken-cobble
LOCATION: 411 Maple Street  Smyrna TN 37167
GEO:35.9831538;-86.5108843
END:VEVENT
END:VCALENDAR