BEGIN:VCALENDAR
VERSION:2.0
PRODID:-//Tukios.com/
BEGIN:VEVENT
UID:29aae001-2f21-492a-8ade-c9005fe80d01@www.woodfinchapel.com
DTSTAMP:20260421T012443Z
DTSTART:20260423T160000Z
DTEND:20260423T170000Z
SUMMARY:Celebration of Life
DESCRIPTION:
URL:https://www.woodfinchapel.com/obituaries/ken-cobble
LOCATION:Smyrna First United Methodist Church 301 Sam Davis Road  Smyrna 
	TN 37167
GEO:35.9837669;-86.5176119
END:VEVENT
END:VCALENDAR