BEGIN:VCALENDAR
VERSION:2.0
PRODID:-//Tukios.com/
BEGIN:VEVENT
UID:0199fc4e-2460-44ce-bbbd-089fc650a4ef@www.woodfinchapel.com
DTSTAMP:20260421T012216Z
DTSTART:20260422T210000Z
DTEND:20260423T000000Z
SUMMARY:Visitation
DESCRIPTION:
URL:https://www.woodfinchapel.com/obituaries/ken-cobble
LOCATION:Woodfin Chapel 203 North Lowry Street  Smyrna TN 37167
GEO:35.969405;-86.5053972
END:VEVENT
END:VCALENDAR