BEGIN:VCALENDAR
VERSION:2.0
PRODID:-//Tukios.com/
BEGIN:VEVENT
UID:c2180eee-32c2-47de-bf98-2c1e888f057c@www.woodfinchapel.com
DTSTAMP:20260420T223919Z
DTSTART:20260422T220000Z
DTEND:20260422T230000Z
SUMMARY:Funeral Service
DESCRIPTION:
URL:https://www.woodfinchapel.com/obituaries/keith-clendenin
LOCATION: 112 Division Street  Smyrna TN 37167
GEO:35.9819444;-86.5222222
END:VEVENT
END:VCALENDAR