BEGIN:VCALENDAR
VERSION:2.0
PRODID:-//Tukios.com/
BEGIN:VEVENT
UID:5671f092-1e6e-4bcc-a6c8-cd24aaa5208e@www.woodfinchapel.com
DTSTAMP:20260420T223003Z
DTSTART:20260422T200000Z
DTEND:20260422T220000Z
SUMMARY:Visitation
DESCRIPTION:
URL:https://www.woodfinchapel.com/obituaries/keith-clendenin
LOCATION:Smyrna Church of Christ 112 Division St  Smyrna TN 37167
GEO:35.982182;-86.522605
END:VEVENT
END:VCALENDAR