BEGIN:VCALENDAR
VERSION:2.0
PRODID:-//Tukios.com/
BEGIN:VEVENT
UID:18d83939-443e-420b-9de4-f42fdb77e44b@www.woodfinchapel.com
DTSTAMP:20260420T031412Z
DTSTART:20260428T180000Z
DTEND:20260428T190000Z
SUMMARY:Celebration of Life
DESCRIPTION:
URL:https://www.woodfinchapel.com/obituaries/jonathan-martin
LOCATION: 1488 Lascassas Pike  Murfreesboro TN 37130
GEO:35.860192;-86.3662659
END:VEVENT
END:VCALENDAR