BEGIN:VCALENDAR
VERSION:2.0
PRODID:-//Tukios.com/
BEGIN:VEVENT
UID:600d57af-87b5-48d0-9d0d-91334a0befa2@www.woodfinchapel.com
DTSTAMP:20260422T024227Z
DTSTART:20260430T180000Z
DTEND:20260430T183000Z
SUMMARY:Graveside Service
DESCRIPTION:
URL:https://www.woodfinchapel.com/obituaries/concetta-tina-kessinger
LOCATION: 7931 McCrory Ln  Nashville TN 37221
GEO:36.0774753;-87.0209965
END:VEVENT
END:VCALENDAR