BEGIN:VCALENDAR
VERSION:2.0
PRODID:-//Tukios.com/
BEGIN:VEVENT
UID:e4dc5ee2-45b4-4c20-9e8c-7bc56f124151@www.woodfinchapel.com
DTSTAMP:20260422T024211Z
DTSTART:20260430T160000Z
DTEND:20260430T163000Z
SUMMARY:Funeral Service
DESCRIPTION:
URL:https://www.woodfinchapel.com/obituaries/concetta-tina-kessinger
LOCATION: 1488 Lascassas Pike  Murfreesboro TN 37130
GEO:35.860192;-86.3662659
END:VEVENT
END:VCALENDAR