BEGIN:VCALENDAR
VERSION:2.0
PRODID:-//Tukios.com/
BEGIN:VEVENT
UID:5005afd3-8713-4a89-97c3-ad05ef74bfc7@www.woodfinchapel.com
DTSTAMP:20260422T024113Z
DTSTART:20260430T140000Z
DTEND:20260430T160000Z
SUMMARY:Visitation
DESCRIPTION:
URL:https://www.woodfinchapel.com/obituaries/concetta-tina-kessinger
LOCATION: 1488 Lascassas Pike  Murfreesboro TN 37130
GEO:35.860192;-86.3662659
END:VEVENT
END:VCALENDAR