BEGIN:VCALENDAR
VERSION:2.0
PRODID:-//Tukios.com/
BEGIN:VEVENT
UID:16a1322d-1f63-4160-8364-2e25db094246@www.woodfinchapel.com
DTSTAMP:20260424T211551Z
DTSTART:20260426
SUMMARY:Burial with Military Honors
DESCRIPTION:
URL:https://www.woodfinchapel.com/obituaries/charles-charlie-pigg
LOCATION:Evergreen Cemetery 519 Greenland Drive  Murfreesboro TN 37130
GEO:35.852866;-86.3804262
END:VEVENT
END:VCALENDAR