BEGIN:VCALENDAR
VERSION:2.0
PRODID:-//Tukios.com/
BEGIN:VEVENT
UID:03e12c87-0345-49b0-b3a1-296feaee7017@www.woodfinchapel.com
DTSTAMP:20260424T211127Z
DTSTART:20260426T190000Z
DTEND:20260426T200000Z
SUMMARY:Funeral Service
DESCRIPTION:
URL:https://www.woodfinchapel.com/obituaries/charles-charlie-pigg
LOCATION: 1488 Lascassas Pike  Murfreesboro TN 37130
GEO:35.860192;-86.3662659
END:VEVENT
END:VCALENDAR