BEGIN:VCALENDAR
VERSION:2.0
PRODID:-//Tukios.com/
BEGIN:VEVENT
UID:03b89d5e-bf23-4d10-9e1a-14a3267a8078@www.woodfinchapel.com
DTSTAMP:20260421T223216Z
DTSTART:20260425T180000Z
DTEND:20260425T190000Z
SUMMARY:Celebration of Life
DESCRIPTION:
URL:https://www.woodfinchapel.com/obituaries/beverly-calder
LOCATION: 315 East Main Street  Murfreesboro TN 37130
GEO:35.8459322;-86.388427
END:VEVENT
END:VCALENDAR