BEGIN:VCALENDAR
VERSION:2.0
PRODID:-//Tukios.com/
BEGIN:VEVENT
UID:08ee058e-065b-4751-b006-2601a0c06e4c@www.woodfinchapel.com
DTSTAMP:20260420T210124Z
DTSTART:20260424T180000Z
DTEND:20260424T190000Z
SUMMARY:Graveside Service
DESCRIPTION:
URL:https://www.woodfinchapel.com/obituaries/ava-grimmett
LOCATION:Oakwood Memorial Gardens 2100 Moncrief Road  Gardendale AL 35071
GEO:33.6722035;-86.8149403
END:VEVENT
END:VCALENDAR