BEGIN:VCALENDAR
VERSION:2.0
PRODID:-//Tukios.com/
BEGIN:VEVENT
UID:7f17ee36-6f21-46e5-a5a8-8694e765b7af@www.woodfinchapel.com
DTSTAMP:20260420T205935Z
DTSTART:20260423T210000Z
DTEND:20260423T220000Z
SUMMARY:Funeral Service
DESCRIPTION:
URL:https://www.woodfinchapel.com/obituaries/ava-grimmett
LOCATION: 1488 Lascassas Pike  Murfreesboro TN 37130
GEO:35.860192;-86.3662659
END:VEVENT
END:VCALENDAR