BEGIN:VCALENDAR
VERSION:2.0
PRODID:-//Tukios.com/
BEGIN:VEVENT
UID:c554da69-146d-4e01-b831-fcc7f2de1496@www.woodfinchapel.com
DTSTAMP:20260420T205120Z
DTSTART:20260423T190000Z
DTEND:20260423T210000Z
SUMMARY:Visitation
DESCRIPTION:
URL:https://www.woodfinchapel.com/obituaries/ava-grimmett
LOCATION: 1488 Lascassas Pike  Murfreesboro TN 37130
GEO:35.860192;-86.3662659
END:VEVENT
END:VCALENDAR