BEGIN:VCALENDAR
VERSION:2.0
PRODID:-//Tukios.com/
BEGIN:VEVENT
UID:041ff384-a961-47c4-841a-8941adc01870@www.woodfinchapel.com
DTSTAMP:20260425T020650Z
DTSTART:20260427T200000Z
DTEND:20260427T210000Z
SUMMARY:Burial
DESCRIPTION:
URL:https://www.woodfinchapel.com/obituaries/antonio-manzur
LOCATION: 5350 NW Broad St  Murfreesboro TN 37129
GEO:35.9246257;-86.4655308
END:VEVENT
END:VCALENDAR